BEGIN:VCALENDAR
VERSION:2.0
PRODID:https://www.ge.ch/evenement/12-pandemie-voter-pas
X-PUBLISHED-TTL:P1W
BEGIN:VEVENT
UID:04b34fc7-6195-4333-b5de-e99fe00c95ae
DTSTART:20211005T080000Z
SEQUENCE:0
TRANSP:OPAQUE
DTEND:20211005T100000Z
LOCATION:Chemin Eugène-RIGOT 2D, 1202 Genève
SUMMARY:12. “Pandémie : voter ou pas?”
CLASS:PUBLIC
DESCRIPTION:Débat\n\nhttps://www.ge.ch/evenement/12-pandemie-voter-pas
ORGANIZER:
DTSTAMP:20260420T121122Z
END:VEVENT
END:VCALENDAR