BEGIN:VCALENDAR
VERSION:2.0
PRODID:https://www.ge.ch/evenement/2-il-n-est-pas-bon-que-homme-soit-seul-femmes-politiques-genevoises-1960-2002
X-PUBLISHED-TTL:P1W
BEGIN:VEVENT
UID:28653ca3-54c2-4a0a-97ab-1e4143590d7c
DTSTART:20210913T070149Z
SEQUENCE:0
TRANSP:OPAQUE
DTEND:20211113T080149Z
LOCATION:Promenade des Bastions 1, 1205 Genève
SUMMARY:2. « Il n’est pas bon que l’homme soit seul » : femmes politiques genevoises, 1960-2002
CLASS:PUBLIC
DESCRIPTION:Exposition du lundi au vendredi de 9h à 18h et le samedi de 9h à 12h\n\n\nhttps://www.ge.ch/evenement/2-il-n-est-pas-bon-que-homme-soit-seul-femmes-politiques-genevoises-1960-2002
ORGANIZER:
DTSTAMP:20260423T125231Z
END:VEVENT
END:VCALENDAR