BEGIN:VCALENDAR
VERSION:2.0
PRODID:https://www.ge.ch/evenement/transmission-entreprise-10-questions
X-PUBLISHED-TTL:P1W
BEGIN:VEVENT
UID:520dbd51-4495-4fc8-aec0-f192510308b6
DTSTART:20210913T160000Z
SEQUENCE:0
TRANSP:OPAQUE
DTEND:20210913T180000Z
LOCATION:Rue de Saint-Jean 98, 1201 Genève
SUMMARY:La transmission d'entreprise en 10 questions
CLASS:PUBLIC
DESCRIPTION:\n\nhttps://www.ge.ch/evenement/transmission-entreprise-10-questions
ORGANIZER:Office cantonal de l&#039;économie et de l&#039;innovation
DTSTAMP:20260423T014443Z
END:VEVENT
END:VCALENDAR