BEGIN:VCALENDAR
VERSION:2.0
PRODID:https://www.ge.ch/evenement/explore-passe-au-digital
X-PUBLISHED-TTL:P1W
BEGIN:VEVENT
UID:6312520c-8d9d-4601-b97d-280be3de5e1a
DTSTART:20201026T230000Z
SEQUENCE:0
TRANSP:OPAQUE
DTEND:20201029T220000Z
LOCATION:
SUMMARY:EXPLORE passe au digital
CLASS:PUBLIC
DESCRIPTION:Trois jours pour expérimenter la ville de demain. Rendez-vous sur notre page Facebook!\n\nhttps://www.ge.ch/evenement/explore-passe-au-digital
ORGANIZER:
DTSTAMP:20260420T063125Z
END:VEVENT
END:VCALENDAR