BEGIN:VCALENDAR
VERSION:2.0
PRODID:https://www.ge.ch/evenement/geneve-lab-meetup-gouverner-c-est-faire-confiance
X-PUBLISHED-TTL:P1W
BEGIN:VEVENT
UID:87c49baf-41f8-4617-aa4b-0db9cf21e7ce
DTSTART:20201013T101500Z
SEQUENCE:0
TRANSP:OPAQUE
DTEND:20201013T114500Z
LOCATION:Rue du Grand-Pré 66, 1202 Genève
SUMMARY:Genève Lab Meetup - Gouverner c’est faire confiance
CLASS:PUBLIC
DESCRIPTION:Comment un collectif d'innovateurs a su réinventer sa gouvernance\n\nhttps://www.ge.ch/evenement/geneve-lab-meetup-gouverner-c-est-faire-confiance
ORGANIZER:ST - Genève Lab
DTSTAMP:20260422T020618Z
END:VEVENT
END:VCALENDAR