BEGIN:VCALENDAR
VERSION:2.0
PRODID:https://www.ge.ch/evenement/quel-avenir-ville-intelligente
X-PUBLISHED-TTL:P1W
BEGIN:VEVENT
UID:402aff25-4aa0-4106-9dc0-00b3ecf5511a
DTSTART:20200926T130000Z
SEQUENCE:0
TRANSP:OPAQUE
DTEND:20200926T150000Z
LOCATION:Route des Acacias 45, 1227 Les Acacias
SUMMARY:Quel avenir pour la ville intelligente ?
CLASS:PUBLIC
DESCRIPTION:\n\nhttps://www.ge.ch/evenement/quel-avenir-ville-intelligente
ORGANIZER:Département du territoire (DT)
DTSTAMP:20260421T002349Z
END:VEVENT
END:VCALENDAR