BEGIN:VCALENDAR
VERSION:2.0
PRODID:https://www.ge.ch/evenement/concertation-projet-quartier-marronniers-au-grand-saconnex
X-PUBLISHED-TTL:P1W
BEGIN:VEVENT
UID:8f5be7fb-a178-4ee1-9ef8-ce24fb0cafa0
DTSTART:20200905T080000Z
SEQUENCE:0
TRANSP:OPAQUE
DTEND:20200905T160000Z
LOCATION:Chemin Edouard-SARASIN 47, 1218 Le Grand-Saconnex
SUMMARY:Concertation pour le projet de quartier Les Marronniers au Grand-Saconnex
CLASS:PUBLIC
DESCRIPTION:\n\nhttps://www.ge.ch/evenement/concertation-projet-quartier-marronniers-au-grand-saconnex
ORGANIZER:
DTSTAMP:20260420T224315Z
END:VEVENT
END:VCALENDAR