BEGIN:VCALENDAR
VERSION:2.0
PRODID:https://www.ge.ch/evenement/11-meinier-je-visite-ma-mairie
X-PUBLISHED-TTL:P1W
BEGIN:VEVENT
UID:5945c218-18bb-4b8e-81a5-5c9ff1f10bae
DTSTART:20201008T080000Z
SEQUENCE:0
TRANSP:OPAQUE
DTEND:20201008T100000Z
LOCATION:Route de Gy 17, 1252 Meinier
SUMMARY:11. Meinier : je visite ma mairie
CLASS:PUBLIC
DESCRIPTION:\n\nhttps://www.ge.ch/evenement/11-meinier-je-visite-ma-mairie
ORGANIZER:
DTSTAMP:20260420T214653Z
END:VEVENT
END:VCALENDAR