BEGIN:VCALENDAR
VERSION:2.0
PRODID:https://www.ge.ch/evenement/matinales-createurs-entreprise-fevrier-2020
X-PUBLISHED-TTL:P1W
BEGIN:VEVENT
UID:9537fdda-7c0e-4127-87d2-13cba0a8785b
DTSTART:20200220T080000Z
SEQUENCE:0
TRANSP:OPAQUE
DTEND:20200220T103000Z
LOCATION:Rue PRÉVOST-MARTIN 6, 1205 Genève
SUMMARY:Matinales des créateurs d'entreprise (février 2020)
CLASS:PUBLIC
DESCRIPTION:Trucs et astuces pour ouvrir un commerce.\n\nhttps://www.ge.ch/evenement/matinales-createurs-entreprise-fevrier-2020
ORGANIZER:Office cantonal de l&#039;économie et de l&#039;innovation
DTSTAMP:20260422T044741Z
END:VEVENT
END:VCALENDAR