BEGIN:VCALENDAR
VERSION:2.0
PRODID:https://www.ge.ch/evenement/concertation-projet-bief-dance-carouge
X-PUBLISHED-TTL:P1W
BEGIN:VEVENT
UID:1ff9923c-55d8-41df-8c98-21fb8de7521f
DTSTART:20191116T080000Z
SEQUENCE:0
TRANSP:OPAQUE
DTEND:20191116T110000Z
LOCATION:
SUMMARY:Concertation pour le projet Bief-à-Dance à Carouge
CLASS:PUBLIC
DESCRIPTION:\n\nhttps://www.ge.ch/evenement/concertation-projet-bief-dance-carouge
ORGANIZER:
DTSTAMP:20260420T131716Z
END:VEVENT
END:VCALENDAR