BEGIN:VCALENDAR
VERSION:2.0
PRODID:https://www.ge.ch/evenement/semaine-mondiale-finance-durable-building-bridges-week
X-PUBLISHED-TTL:P1W
BEGIN:VEVENT
UID:f4f09a8f-ba6c-4dcf-9727-efca273bd41c
DTSTART:20191006T220000Z
SEQUENCE:0
TRANSP:OPAQUE
DTEND:20191010T220000Z
LOCATION:
SUMMARY:Semaine mondiale de la finance durable (Building Bridges Week)
CLASS:PUBLIC
DESCRIPTION:Le canton de Genève accueille, du 7 au 11 octobre prochain, la première semaine mondiale des investissements verts et socialement responsables. Point d'orgue de cette initiative visant à établir des passerelles entre le monde de la finance et les Objectifs de développement durable (ODD) des Nations unies: un Sommet international inédit, réunissant quelque 800 décideurs du monde entier.\n\nhttps://www.ge.ch/evenement/semaine-mondiale-finance-durable-building-bridges-week
ORGANIZER:Département de l&#039;économie, de l&#039;emploi et de l&#039;énergie (DEE)
DTSTAMP:20260421T140141Z
END:VEVENT
END:VCALENDAR