BEGIN:VCALENDAR
VERSION:2.0
PRODID:https://www.ge.ch/evenement/conference-sexisme-violences-sexuelles-dans-milieux-sante-quels-enjeux
X-PUBLISHED-TTL:P1W
BEGIN:VEVENT
UID:9ace6e04-a5b5-4694-891b-6b3351645fb7
DTSTART:20191121T070000Z
SEQUENCE:0
TRANSP:OPAQUE
DTEND:20191121T114500Z
LOCATION:Rue Gabrielle-PERRET-GENTIL 4, 1205 Genève
SUMMARY:Conférence: Sexisme et violences sexuelles dans les milieux de la santé: quels enjeux?
CLASS:PUBLIC
DESCRIPTION:\n\nhttps://www.ge.ch/evenement/conference-sexisme-violences-sexuelles-dans-milieux-sante-quels-enjeux
ORGANIZER:Département des finances, des ressources humaines et des affaires extérieures (DF)
DTSTAMP:20260422T134044Z
END:VEVENT
END:VCALENDAR