BEGIN:VCALENDAR
VERSION:2.0
PRODID:https://www.ge.ch/evenement/32-elections-qui-me-correspond-mieux
X-PUBLISHED-TTL:P1W
BEGIN:VEVENT
UID:50fa349e-04f9-4771-888d-057bd16b1f86
DTSTART:20191003T150000Z
SEQUENCE:0
TRANSP:OPAQUE
DTEND:20191003T160000Z
LOCATION:Boulevard du Pont-d&#039;Arve 40, 1205 Genève
SUMMARY:32. Elections: qui me correspond le mieux?
CLASS:PUBLIC
DESCRIPTION:\n\nhttps://www.ge.ch/evenement/32-elections-qui-me-correspond-mieux
ORGANIZER:
DTSTAMP:20260421T095605Z
END:VEVENT
END:VCALENDAR