BEGIN:VCALENDAR
VERSION:2.0
PRODID:https://www.ge.ch/evenement/plan-localise-quartier-pre-bois-concertation
X-PUBLISHED-TTL:P1W
BEGIN:VEVENT
UID:31e5d5fd-6dab-4223-9e31-cc8ed3a3efc6
DTSTART:20190916T163000Z
SEQUENCE:0
TRANSP:OPAQUE
DTEND:20190916T190000Z
LOCATION:Route de Pré-Bois 20, 1215 Genève
SUMMARY:Plan localisé de quartier Pré-Bois - Concertation
CLASS:PUBLIC
DESCRIPTION:Séance de restitution\n\nhttps://www.ge.ch/evenement/plan-localise-quartier-pre-bois-concertation
ORGANIZER:
DTSTAMP:20260420T230517Z
END:VEVENT
END:VCALENDAR