BEGIN:VCALENDAR
VERSION:2.0
PRODID:https://www.ge.ch/evenement/17-conference-debat-reinventer-democratie-experiences-participatives-enjeux-innovation-politique
X-PUBLISHED-TTL:P1W
BEGIN:VEVENT
UID:8da10b35-b7a5-4363-ae63-628ddc90dda6
DTSTART:20191002T160000Z
SEQUENCE:0
TRANSP:OPAQUE
DTEND:20191002T190000Z
LOCATION:Boulevard du Pont-d&#039;Arve 40, 1205 Genève
SUMMARY:17. Conférence-débat: "Réinventer la démocratie: expériences participatives et enjeux de l'innovation politique"
CLASS:PUBLIC
DESCRIPTION:\n\nhttps://www.ge.ch/evenement/17-conference-debat-reinventer-democratie-experiences-participatives-enjeux-innovation-politique
ORGANIZER:
DTSTAMP:20260419T162322Z
END:VEVENT
END:VCALENDAR