BEGIN:VCALENDAR
VERSION:2.0
PRODID:https://www.ge.ch/evenement/12-future-work-participatory-democracy-making-living-wage-fragmentation-societies-and-social-cohesion
X-PUBLISHED-TTL:P1W
BEGIN:VEVENT
UID:3fbf3115-4bda-47a5-9519-e3d7eb53ba41
DTSTART:20191001T161500Z
SEQUENCE:0
TRANSP:OPAQUE
DTEND:20191001T180000Z
LOCATION:Boulevard du Pont-d&#039;Arve 40, 1205 Genève
SUMMARY:12 a) The Future of Work: Participatory Democracy in the Making: Living wage, fragmentation of societies and social cohesion
CLASS:PUBLIC
DESCRIPTION:\n\nhttps://www.ge.ch/evenement/12-future-work-participatory-democracy-making-living-wage-fragmentation-societies-and-social-cohesion
ORGANIZER:
DTSTAMP:20260422T020528Z
END:VEVENT
END:VCALENDAR