BEGIN:VCALENDAR
VERSION:2.0
PRODID:https://www.ge.ch/evenement/2-exposition-participation-politique-jeunes-democratie
X-PUBLISHED-TTL:P1W
BEGIN:VEVENT
UID:105d82d4-f597-44b2-a47c-cf563786d767
DTSTART:20191005
SEQUENCE:0
TRANSP:OPAQUE
DTEND:
LOCATION:Boulevard du Pont-d&#039;Arve 40, 1205 Genève
SUMMARY:2. Exposition : participation politique des jeunes et démocratie
CLASS:PUBLIC
DESCRIPTION:\n\nhttps://www.ge.ch/evenement/2-exposition-participation-politique-jeunes-democratie
ORGANIZER:
DTSTAMP:20260421T101422Z
END:VEVENT
END:VCALENDAR