BEGIN:VCALENDAR
VERSION:2.0
PRODID:https://www.ge.ch/evenement/playcamp-geneve
X-PUBLISHED-TTL:P1W
BEGIN:VEVENT
UID:c8abedc8-3ee4-4032-b11b-e51174a0be59
DTSTART:20190928T070000Z
SEQUENCE:0
TRANSP:OPAQUE
DTEND:20190928T160000Z
LOCATION:Rue de Lyon 58, 1203 Genève
SUMMARY:Playcamp Genève
CLASS:PUBLIC
DESCRIPTION:Novice intéressé ou praticien passionné par les Innovation Games® ? Rejoignez-nous à l'occasion de cette édition 2019 du PlayCamp organisée à Genève ?\n\nhttps://www.ge.ch/evenement/playcamp-geneve
ORGANIZER:Département de la santé et des mobilités (DSM)
DTSTAMP:20260422T160654Z
END:VEVENT
END:VCALENDAR