BEGIN:VCALENDAR
VERSION:2.0
PRODID:https://www.ge.ch/evenement/plan-localise-quartier-pre-bois-concertation-habitants-riverains
X-PUBLISHED-TTL:P1W
BEGIN:VEVENT
UID:c58e0ac1-5321-4427-aa25-11c1f662def6
DTSTART:20190618T163000Z
SEQUENCE:0
TRANSP:OPAQUE
DTEND:20190618T190000Z
LOCATION:Route de Pré-Bois 20, 1215 Genève
SUMMARY:Plan localisé  de quartier Pré-Bois - concertation pour les habitants et riverains
CLASS:PUBLIC
DESCRIPTION:\n\nhttps://www.ge.ch/evenement/plan-localise-quartier-pre-bois-concertation-habitants-riverains
ORGANIZER:
DTSTAMP:20260420T225353Z
END:VEVENT
END:VCALENDAR