BEGIN:VCALENDAR
VERSION:2.0
PRODID:https://www.ge.ch/evenement/plan-localise-quartier-pre-bois-concertation-employes-travaillant-proximite
X-PUBLISHED-TTL:P1W
BEGIN:VEVENT
UID:e7d0191d-312b-4e72-9540-c6a5b8fb0c9e
DTSTART:20190618T093000Z
SEQUENCE:0
TRANSP:OPAQUE
DTEND:20190618T120000Z
LOCATION:Route de Pré-Bois 20, 1215 Genève
SUMMARY:Plan localisé  de quartier Pré-Bois - concertation pour les employés travaillant à proximité
CLASS:PUBLIC
DESCRIPTION:\n\nhttps://www.ge.ch/evenement/plan-localise-quartier-pre-bois-concertation-employes-travaillant-proximite
ORGANIZER:
DTSTAMP:20260420T225718Z
END:VEVENT
END:VCALENDAR