BEGIN:VCALENDAR
VERSION:2.0
PRODID:https://www.ge.ch/evenement/250-eleves-chantent-west-side-story
X-PUBLISHED-TTL:P1W
BEGIN:VEVENT
UID:1327e95e-c62b-4fcb-ad3b-20d0baf6c731
DTSTART:20190401T180000Z
SEQUENCE:0
TRANSP:OPAQUE
DTEND:20190401T200000Z
LOCATION:Rue du Général-DUFOUR 14, 1204 Genève
SUMMARY:250 élèves chantent West Side Story !
CLASS:PUBLIC
DESCRIPTION:Pour la première fois réunis au sein d'un seul et même chœur, les élèves de quatre choeurs de l'enseignement secondaire II vont se produire le 1er avril 2019 avec L'Orchestre de Chambre de Genève (L'OCG).\n\nhttps://www.ge.ch/evenement/250-eleves-chantent-west-side-story
ORGANIZER:Département de l&#039;instruction publique, de la formation et de la jeunesse (DIP)
DTSTAMP:20260420T141611Z
END:VEVENT
END:VCALENDAR