BEGIN:VCALENDAR
VERSION:2.0
PRODID:https://www.ge.ch/evenement/economie-finance-durable
X-PUBLISHED-TTL:P1W
BEGIN:VEVENT
UID:fd0a2a49-7fd7-41f8-a6ab-06f6e971e955
DTSTART:20190404T150000Z
SEQUENCE:0
TRANSP:OPAQUE
DTEND:20190404T170000Z
LOCATION:Rue David-DUFOUR 3, 1205 Genève
SUMMARY:Economie et finance durable
CLASS:PUBLIC
DESCRIPTION:\n\nhttps://www.ge.ch/evenement/economie-finance-durable
ORGANIZER:
DTSTAMP:20260420T135211Z
END:VEVENT
END:VCALENDAR