BEGIN:VCALENDAR
VERSION:2.0
PRODID:https://www.ge.ch/evenement/changement-climatique-rarefaction-ressources
X-PUBLISHED-TTL:P1W
BEGIN:VEVENT
UID:6a3f1266-fe23-4585-a3c6-fc1008621773
DTSTART:20190329T163000Z
SEQUENCE:0
TRANSP:OPAQUE
DTEND:20190329T180000Z
LOCATION:
SUMMARY:Changement climatique et raréfaction des ressources
CLASS:PUBLIC
DESCRIPTION:\n\nhttps://www.ge.ch/evenement/changement-climatique-rarefaction-ressources
ORGANIZER:
DTSTAMP:20260425T202444Z
END:VEVENT
END:VCALENDAR