BEGIN:VCALENDAR
VERSION:2.0
PRODID:https://www.ge.ch/evenement/langage-non-verbal-au-service-technologies-information
X-PUBLISHED-TTL:P1W
BEGIN:VEVENT
UID:ce8115b7-683d-4c12-a64f-07ca464bffba
DTSTART:20190221T170000Z
SEQUENCE:0
TRANSP:OPAQUE
DTEND:20190221T193000Z
LOCATION:Rue David-DUFOUR 3, 1205 Genève
SUMMARY:Le langage non-verbal au service des technologies de l'information
CLASS:PUBLIC
DESCRIPTION:Une nouvelle Causerie du jeudi au 3DD\n\nhttps://www.ge.ch/evenement/langage-non-verbal-au-service-technologies-information
ORGANIZER:ST - Genève Lab
DTSTAMP:20260421T160628Z
END:VEVENT
END:VCALENDAR