BEGIN:VCALENDAR
VERSION:2.0
PRODID:https://www.ge.ch/evenement/nouvelle-publication-du-fcac-presentee-artgeneve
X-PUBLISHED-TTL:P1W
BEGIN:VEVENT
UID:122071c0-0003-4c2d-96bf-1e622001ab05
DTSTART:20190117T165400Z
SEQUENCE:0
TRANSP:OPAQUE
DTEND:20190117T175400Z
LOCATION:
SUMMARY:Nouvelle publication du FCAC présentée à artgenève
CLASS:PUBLIC
DESCRIPTION:Le Fonds cantonal d'art contemporain (FCAC) vous invite au vernissage, le 30 janvier à artgenève, de son catalogue présentant 101 œuvres de la collection. \n\nhttps://www.ge.ch/evenement/nouvelle-publication-du-fcac-presentee-artgeneve
ORGANIZER:Département de la cohésion sociale (DCS)
DTSTAMP:20260421T093938Z
END:VEVENT
END:VCALENDAR