BEGIN:VCALENDAR
VERSION:2.0
PRODID:https://www.ge.ch/evenement/matinales-createurs-entreprises-octobre-2019
X-PUBLISHED-TTL:P1W
BEGIN:VEVENT
UID:6d8a3aef-683c-4819-9d31-5fb8e18ab8fe
DTSTART:20191010T070000Z
SEQUENCE:0
TRANSP:OPAQUE
DTEND:20191010T093000Z
LOCATION:Rue PRÉVOST-MARTIN 6, 1205 Genève
SUMMARY:Matinales des créateurs d'entreprises (octobre 2019)
CLASS:PUBLIC
DESCRIPTION:Créer ou reprendre une entreprise, quels avantages?\n\nhttps://www.ge.ch/evenement/matinales-createurs-entreprises-octobre-2019
ORGANIZER:Office cantonal de l&#039;économie et de l&#039;innovation
DTSTAMP:20260420T224314Z
END:VEVENT
END:VCALENDAR