BEGIN:VCALENDAR
VERSION:2.0
PRODID:https://www.ge.ch/evenement/alcools-drogues-ecrans-adolescence-que-faire-ensemble
X-PUBLISHED-TTL:P1W
BEGIN:VEVENT
UID:677d2b99-f25c-4139-a248-ac57b7a8583c
DTSTART:20191008T170000Z
SEQUENCE:0
TRANSP:OPAQUE
DTEND:20191008T190000Z
LOCATION:Rue PRÉVOST-MARTIN 28, 1205 Genève
SUMMARY:Alcools, drogues et écrans à l'adolescence: que faire ensemble?
CLASS:PUBLIC
DESCRIPTION:Séance d'information destinée aux parents d'adolescents\n\nhttps://www.ge.ch/evenement/alcools-drogues-ecrans-adolescence-que-faire-ensemble
ORGANIZER:Département de l&#039;instruction publique, de la formation et de la jeunesse (DIP)
DTSTAMP:20260422T100632Z
END:VEVENT
END:VCALENDAR