BEGIN:VCALENDAR
VERSION:2.0
PRODID:https://www.ge.ch/evenement/comment-utiliser-outils-start-fintech-amorcer-votre-transformation-digitale
X-PUBLISHED-TTL:P1W
BEGIN:VEVENT
UID:8a848a1e-5c1f-45dd-9c29-e2dec6935237
DTSTART:20181115T170000Z
SEQUENCE:0
TRANSP:OPAQUE
DTEND:20181115T200000Z
LOCATION:Quai de l&#039;Ile 13, 1204 Genève
SUMMARY:Comment utiliser les outils des start-up fintech pour amorcer votre transformation digitale?
CLASS:PUBLIC
DESCRIPTION:Evénement BusinessIn.\n\nhttps://www.ge.ch/evenement/comment-utiliser-outils-start-fintech-amorcer-votre-transformation-digitale
ORGANIZER:Office cantonal de l&#039;économie et de l&#039;innovation
DTSTAMP:20260420T132501Z
END:VEVENT
END:VCALENDAR