BEGIN:VCALENDAR
PRODID:-//Microsoft Corporation//Outlook 16.0 MIMEDIR//EN
VERSION:2.0
METHOD:PUBLISH
X-MS-OLK-FORCEINSPECTOROPEN:TRUE
BEGIN:VEVENT
CLASS:PUBLIC
CREATED:20231121T122315Z
DTEND;VALUE=DATE:20251025
DTSTAMP:20231121T122315Z
DTSTART;VALUE=DATE:20251020
LAST-MODIFIED:20231121T122315Z
PRIORITY:5
SEQUENCE:0
SUMMARY;LANGUAGE=fr-ch:Vacances d'automne
TRANSP:TRANSPARENT
UID:040000008200E00074C5B7101A82E0080000000020F65CD57D1CDA01000000000000000
	01000000095DFC028DC2ADA43B5BDA1A21F904423
X-MICROSOFT-CDO-BUSYSTATUS:FREE
X-MICROSOFT-CDO-IMPORTANCE:1
X-MICROSOFT-DISALLOW-COUNTER:FALSE
X-MS-OLK-AUTOFILLLOCATION:TRUE
X-MS-OLK-AUTOSTARTCHECK:FALSE
X-MS-OLK-CONFTYPE:0
END:VEVENT
END:VCALENDAR
