BEGIN:VCALENDAR
PRODID:-//Microsoft Corporation//Outlook 16.0 MIMEDIR//EN
VERSION:2.0
METHOD:PUBLISH
X-MS-OLK-FORCEINSPECTOROPEN:TRUE
BEGIN:VEVENT
CLASS:PUBLIC
CREATED:20231121T122215Z
DTEND;VALUE=DATE:20250912
DTSTAMP:20231121T122215Z
DTSTART;VALUE=DATE:20250911
LAST-MODIFIED:20231121T122215Z
PRIORITY:5
SEQUENCE:0
SUMMARY;LANGUAGE=fr-ch:Jeûne genevois
TRANSP:TRANSPARENT
UID:040000008200E00074C5B7101A82E00800000000A058ACB27D1CDA01000000000000000
	010000000344BBC54CBBE1943B3F2C776B36157A3
X-MICROSOFT-CDO-BUSYSTATUS:FREE
X-MICROSOFT-CDO-IMPORTANCE:1
X-MICROSOFT-DISALLOW-COUNTER:FALSE
X-MS-OLK-AUTOFILLLOCATION:TRUE
X-MS-OLK-AUTOSTARTCHECK:FALSE
X-MS-OLK-CONFTYPE:0
END:VEVENT
END:VCALENDAR
