BEGIN:VCALENDAR
PRODID:-//Google Inc//Google Calendar 70.9054//EN
VERSION:2.0
CALSCALE:GREGORIAN
METHOD:PUBLISH
X-WR-CALNAME:Jours fériés 2027 Genève
X-WR-TIMEZONE:Europe/Zurich
X-WR-CALDESC:ge.ch
BEGIN:VEVENT
DTSTART;VALUE=DATE:20270101
DTEND;VALUE=DATE:20270102
DTSTAMP:20210211T181812Z
UID:5ipu17f3d5ds0rm1qjdbctqas8@google.com
CREATED:20210211T181528Z
DESCRIPTION:
LAST-MODIFIED:20210211T181528Z
LOCATION:
SEQUENCE:0
STATUS:CONFIRMED
SUMMARY:Nouvel An
TRANSP:TRANSPARENT
END:VEVENT
BEGIN:VEVENT
DTSTART;VALUE=DATE:20270326
DTEND;VALUE=DATE:20270327
DTSTAMP:20210211T181812Z
UID:2e4uhu1agihmn0sa9aavutdt3a@google.com
CREATED:20210211T181548Z
DESCRIPTION:
LAST-MODIFIED:20210211T181548Z
LOCATION:
SEQUENCE:0
STATUS:CONFIRMED
SUMMARY:Vendredi-Saint
TRANSP:TRANSPARENT
END:VEVENT
BEGIN:VEVENT
DTSTART;VALUE=DATE:20270329
DTEND;VALUE=DATE:20270330
DTSTAMP:20210211T181812Z
UID:38vhttdi0tbg68fvql3pp6f9sd@google.com
CREATED:20210211T181615Z
DESCRIPTION:
LAST-MODIFIED:20210211T181615Z
LOCATION:
SEQUENCE:0
STATUS:CONFIRMED
SUMMARY:Lundi de Pâques
TRANSP:TRANSPARENT
END:VEVENT
BEGIN:VEVENT
DTSTART;VALUE=DATE:20270506
DTEND;VALUE=DATE:20270507
DTSTAMP:20210211T181812Z
UID:4gnn61ntlices2itc90dv9t191@google.com
CREATED:20210211T181635Z
DESCRIPTION:
LAST-MODIFIED:20210211T181635Z
LOCATION:
SEQUENCE:0
STATUS:CONFIRMED
SUMMARY:Jeudi de l'Ascension
TRANSP:TRANSPARENT
END:VEVENT
BEGIN:VEVENT
DTSTART;VALUE=DATE:20270517
DTEND;VALUE=DATE:20270518
DTSTAMP:20210211T181812Z
UID:4q7tlon99rbemqob0lpika5og2@google.com
CREATED:20210211T181650Z
DESCRIPTION:
LAST-MODIFIED:20210211T181650Z
LOCATION:
SEQUENCE:0
STATUS:CONFIRMED
SUMMARY:Lundi de Pentecôte
TRANSP:TRANSPARENT
END:VEVENT
BEGIN:VEVENT
DTSTART;VALUE=DATE:20270801
DTEND;VALUE=DATE:20270802
DTSTAMP:20210211T181812Z
UID:7dlk3bbdse4ev2qv18qj7ddfi8@google.com
CREATED:20210211T181706Z
DESCRIPTION:
LAST-MODIFIED:20210211T181706Z
LOCATION:
SEQUENCE:0
STATUS:CONFIRMED
SUMMARY:Fête nationale
TRANSP:TRANSPARENT
END:VEVENT
BEGIN:VEVENT
DTSTART;VALUE=DATE:20270909
DTEND;VALUE=DATE:20270910
DTSTAMP:20210211T181812Z
UID:5qoa98q25r1svik1qqu3qo60lm@google.com
CREATED:20210211T181722Z
DESCRIPTION:
LAST-MODIFIED:20210211T181722Z
LOCATION:
SEQUENCE:0
STATUS:CONFIRMED
SUMMARY:Jeûne genevois
TRANSP:TRANSPARENT
END:VEVENT
BEGIN:VEVENT
DTSTART;VALUE=DATE:20271225
DTEND;VALUE=DATE:20271226
DTSTAMP:20210211T181812Z
UID:66nk20i4tdpcf11m4mrbtp3er4@google.com
CREATED:20210211T181744Z
DESCRIPTION:
LAST-MODIFIED:20210211T181744Z
LOCATION:
SEQUENCE:0
STATUS:CONFIRMED
SUMMARY:Noël
TRANSP:TRANSPARENT
END:VEVENT
BEGIN:VEVENT
DTSTART;VALUE=DATE:20271231
DTEND;VALUE=DATE:20280101
DTSTAMP:20210211T181812Z
UID:3bs8j73jhrcvp0p0j4v3j938i0@google.com
CREATED:20210211T181801Z
DESCRIPTION:
LAST-MODIFIED:20210211T181801Z
LOCATION:
SEQUENCE:0
STATUS:CONFIRMED
SUMMARY:Restauration de la République
TRANSP:TRANSPARENT
END:VEVENT
END:VCALENDAR
