BEGIN:VCALENDAR
PRODID:-//Google Inc//Google Calendar 70.9054//EN
VERSION:2.0
CALSCALE:GREGORIAN
METHOD:PUBLISH
X-WR-CALNAME:Jours fériés 2026 Genève
X-WR-TIMEZONE:Europe/Zurich
X-WR-CALDESC:ge.ch
BEGIN:VEVENT
DTSTART;VALUE=DATE:20260101
DTEND;VALUE=DATE:20260102
DTSTAMP:20210211T181407Z
UID:4lfvdmjshn6c881t82o4iffkt6@google.com
CREATED:20210211T181131Z
DESCRIPTION:
LAST-MODIFIED:20210211T181131Z
LOCATION:
SEQUENCE:0
STATUS:CONFIRMED
SUMMARY:Nouvel An
TRANSP:TRANSPARENT
END:VEVENT
BEGIN:VEVENT
DTSTART;VALUE=DATE:20260403
DTEND;VALUE=DATE:20260404
DTSTAMP:20210211T181407Z
UID:4c1ek4he1rlt5ckvj8n3eu7qjs@google.com
CREATED:20210211T181150Z
DESCRIPTION:
LAST-MODIFIED:20210211T181150Z
LOCATION:
SEQUENCE:0
STATUS:CONFIRMED
SUMMARY:Vendredi-Saint
TRANSP:TRANSPARENT
END:VEVENT
BEGIN:VEVENT
DTSTART;VALUE=DATE:20260406
DTEND;VALUE=DATE:20260407
DTSTAMP:20210211T181407Z
UID:284un4rqad9f78knl4p127k0j1@google.com
CREATED:20210211T181207Z
DESCRIPTION:
LAST-MODIFIED:20210211T181207Z
LOCATION:
SEQUENCE:0
STATUS:CONFIRMED
SUMMARY:Lundi de Pâques
TRANSP:TRANSPARENT
END:VEVENT
BEGIN:VEVENT
DTSTART;VALUE=DATE:20260514
DTEND;VALUE=DATE:20260515
DTSTAMP:20210211T181407Z
UID:68coosqpfs26atssmodi436euu@google.com
CREATED:20210211T181224Z
DESCRIPTION:
LAST-MODIFIED:20210211T181224Z
LOCATION:
SEQUENCE:0
STATUS:CONFIRMED
SUMMARY:Jeudi de l'Ascension
TRANSP:TRANSPARENT
END:VEVENT
BEGIN:VEVENT
DTSTART;VALUE=DATE:20260525
DTEND;VALUE=DATE:20260526
DTSTAMP:20210211T181407Z
UID:74g6a00ejf7j82hptk0cv3t6d7@google.com
CREATED:20210211T181245Z
DESCRIPTION:
LAST-MODIFIED:20210211T181245Z
LOCATION:
SEQUENCE:0
STATUS:CONFIRMED
SUMMARY:Lundi de Pentecôte
TRANSP:TRANSPARENT
END:VEVENT
BEGIN:VEVENT
DTSTART;VALUE=DATE:20260801
DTEND;VALUE=DATE:20260802
DTSTAMP:20210211T181407Z
UID:05nuenou7cklo06bel4s2p758v@google.com
CREATED:20210211T181301Z
DESCRIPTION:
LAST-MODIFIED:20210211T181301Z
LOCATION:
SEQUENCE:0
STATUS:CONFIRMED
SUMMARY:Fête nationale
TRANSP:TRANSPARENT
END:VEVENT
BEGIN:VEVENT
DTSTART;VALUE=DATE:20260910
DTEND;VALUE=DATE:20260911
DTSTAMP:20210211T181407Z
UID:6vr577cnkeakb7uljgj9rvv07b@google.com
CREATED:20210211T181327Z
DESCRIPTION:
LAST-MODIFIED:20210211T181327Z
LOCATION:
SEQUENCE:0
STATUS:CONFIRMED
SUMMARY:Jeûne genevois
TRANSP:TRANSPARENT
END:VEVENT
BEGIN:VEVENT
DTSTART;VALUE=DATE:20261225
DTEND;VALUE=DATE:20261226
DTSTAMP:20210211T181407Z
UID:4toek6e5o4pjl4lq9aeek9nv9e@google.com
CREATED:20210211T181345Z
DESCRIPTION:
LAST-MODIFIED:20210211T181345Z
LOCATION:
SEQUENCE:0
STATUS:CONFIRMED
SUMMARY:Noël
TRANSP:TRANSPARENT
END:VEVENT
BEGIN:VEVENT
DTSTART;VALUE=DATE:20261231
DTEND;VALUE=DATE:20270101
DTSTAMP:20210211T181407Z
UID:6orkaa7j59u5utm4srfpquu2r6@google.com
CREATED:20210211T181358Z
DESCRIPTION:
LAST-MODIFIED:20210211T181358Z
LOCATION:
SEQUENCE:0
STATUS:CONFIRMED
SUMMARY:Restauration de la République
TRANSP:TRANSPARENT
END:VEVENT
END:VCALENDAR
