BEGIN:VCALENDAR
PRODID:-//Google Inc//Google Calendar 70.9054//EN
VERSION:2.0
CALSCALE:GREGORIAN
METHOD:PUBLISH
X-WR-CALNAME:Jours fériés 2025 Genève
X-WR-TIMEZONE:Europe/Zurich
X-WR-CALDESC:ge.ch
BEGIN:VEVENT
DTSTART;VALUE=DATE:20250101
DTEND;VALUE=DATE:20250102
DTSTAMP:20210211T181021Z
UID:1dj5eshk5842tfjtgkdcrpmo83@google.com
CREATED:20210211T180727Z
DESCRIPTION:
LAST-MODIFIED:20210211T180727Z
LOCATION:
SEQUENCE:0
STATUS:CONFIRMED
SUMMARY:Nouvel An
TRANSP:TRANSPARENT
END:VEVENT
BEGIN:VEVENT
DTSTART;VALUE=DATE:20250418
DTEND;VALUE=DATE:20250419
DTSTAMP:20210211T181021Z
UID:03ngb3jgqlols4optrbljfh55j@google.com
CREATED:20210211T180748Z
DESCRIPTION:
LAST-MODIFIED:20210211T180748Z
LOCATION:
SEQUENCE:0
STATUS:CONFIRMED
SUMMARY:Vendredi-Saint
TRANSP:TRANSPARENT
END:VEVENT
BEGIN:VEVENT
DTSTART;VALUE=DATE:20250421
DTEND;VALUE=DATE:20250422
DTSTAMP:20210211T181021Z
UID:4dedu6rlj3qs84ntpuc9j1or5h@google.com
CREATED:20210211T180807Z
DESCRIPTION:
LAST-MODIFIED:20210211T180807Z
LOCATION:
SEQUENCE:0
STATUS:CONFIRMED
SUMMARY:Lundi de Pâques
TRANSP:TRANSPARENT
END:VEVENT
BEGIN:VEVENT
DTSTART;VALUE=DATE:20250529
DTEND;VALUE=DATE:20250530
DTSTAMP:20210211T181021Z
UID:3lc63vql7rq81aioem30k1baif@google.com
CREATED:20210211T180828Z
DESCRIPTION:
LAST-MODIFIED:20210211T180828Z
LOCATION:
SEQUENCE:0
STATUS:CONFIRMED
SUMMARY:Jeudi de l'Ascension
TRANSP:TRANSPARENT
END:VEVENT
BEGIN:VEVENT
DTSTART;VALUE=DATE:20250609
DTEND;VALUE=DATE:20250610
DTSTAMP:20210211T181021Z
UID:4gktgprg2e0avp50e5hmp9socs@google.com
CREATED:20210211T180850Z
DESCRIPTION:
LAST-MODIFIED:20210211T180851Z
LOCATION:
SEQUENCE:0
STATUS:CONFIRMED
SUMMARY:Lundi de Pentecôte
TRANSP:TRANSPARENT
END:VEVENT
BEGIN:VEVENT
DTSTART;VALUE=DATE:20250801
DTEND;VALUE=DATE:20250802
DTSTAMP:20210211T181021Z
UID:3mu6l5a21qj3b4f91brjm671q8@google.com
CREATED:20210211T180907Z
DESCRIPTION:
LAST-MODIFIED:20210211T180907Z
LOCATION:
SEQUENCE:0
STATUS:CONFIRMED
SUMMARY:Fête nationale
TRANSP:TRANSPARENT
END:VEVENT
BEGIN:VEVENT
DTSTART;VALUE=DATE:20250911
DTEND;VALUE=DATE:20250912
DTSTAMP:20210211T181021Z
UID:6r22jtl77hch0c2ah9r8slv75n@google.com
CREATED:20210211T180933Z
DESCRIPTION:
LAST-MODIFIED:20210211T180933Z
LOCATION:
SEQUENCE:0
STATUS:CONFIRMED
SUMMARY:Jeûne genevois
TRANSP:TRANSPARENT
END:VEVENT
BEGIN:VEVENT
DTSTART;VALUE=DATE:20251225
DTEND;VALUE=DATE:20251226
DTSTAMP:20210211T181021Z
UID:1tdfj1qn8h31psuco1qe0fb0jq@google.com
CREATED:20210211T180950Z
DESCRIPTION:
LAST-MODIFIED:20210211T180950Z
LOCATION:
SEQUENCE:0
STATUS:CONFIRMED
SUMMARY:Noël
TRANSP:TRANSPARENT
END:VEVENT
BEGIN:VEVENT
DTSTART;VALUE=DATE:20251231
DTEND;VALUE=DATE:20260101
DTSTAMP:20210211T181021Z
UID:4a1mcki1gccedau59e6243i09m@google.com
CREATED:20210211T181009Z
DESCRIPTION:
LAST-MODIFIED:20210211T181009Z
LOCATION:
SEQUENCE:0
STATUS:CONFIRMED
SUMMARY:Restauration de la République
TRANSP:TRANSPARENT
END:VEVENT
END:VCALENDAR
