Workbook
Name AncienneVersion: CopieDonnées!$C$4
Name Version: CopieDonnées!$C$8

Sheet Instructions
B6: Reporting des lits en unité d'accueil temporaire de répit (UATR) dans les établissements médico-sociaux (EMS)
B9: 1 | C9: Onglet Données lit(s) selon AE
C10: Doit être renseignés dans cet onglet :
C11: - les séjours en UATR standards (lit(s) déterminé(s) par autorisation d'exploitation) ;
C12: - les séjours en UATR standards soumis à une dérogation pour séjour au-delà de 45 jours.
B16: 2 | C16: Onglet Données lit(s) dérogatoire(s)
C17: Doit être renseignés dans cet onglet :
C18: - les séjours en UATR dérogatoires (lit(s) non déterminé(s) par autorisation d'exploitation mais par dérogation du secteur des EMS) ;
C20: - les séjours en UATR dérogatoires et soumis à une dérogation pour séjour au-delà de 45 jours.
B24: 3 | C24: Onglet Paramètres
C25: Doit être renseignés dans cet onglet :
C26: - le nom de l'établissement concerné ;
C27: - la période sous revue.

Sheet Paramètres
B2: Nom de l'EMS : | C2: AMITIE
B4: Période : | C4: T3 2026
B6: Dates pour la période : | C6: Du | D6: =VLOOKUP($C$4,Ref!Q1:S28,2,FALSE) -> 46204 | E6: au | F6: =VLOOKUP($C$4,Ref!Q1:S28,3,FALSE) -> 46295

Sheet Données lit(s) selon AE
B2: Reporting UATR : | C2: lit(s) standard(s)
B4: EMS : | C4: =Paramètres!$C$2 -> AMITIE
B6: Période : | C6: =Paramètres!$C$4 -> T3 2026
O7: Données effectives(1) | T7: Si séjour UATR déjà effectué :
B8: NOM | C8: Prénom | D8: Date de naissance | E8: Age à l'admission | F8: Sexe | G8: Demandeur | H8: Provenance | I8: NPA domicile bénéficiaire | J8: Statut d'admission | K8: Suivi OSAD avant admission | L8: Orientation lors de la demande | M8: Motif principal de l'entrée | N8: Degré PLEX | O8: Date d'entrée | P8: Date de sortie | Q8: Durée (jours) | R8: Destination de sortie | S8: Transformation en long séjour (2) | T8: Nb. de jours | U8: Lieu | V8: Dérogation pour une prolongation de séjour (cumul > 45 jours)
E9: =IFERROR(IF(D9<>"",IF(ISBLANK(DGS_UATR_standard[[#This Row],[Date d''entrée]]),DATEDIF(D9,#REF!,"y"),DATEDIF(D9,O9,"y")),""),0) | H9: Domicile | Q9: =IFERROR(IF(O9<>"",DATEDIF(O9,P9,"d")+1,""),0)
E10: =IFERROR(IF(D10<>"",IF(ISBLANK(DGS_UATR_standard[[#This Row],[Date d''entrée]]),DATEDIF(D10,#REF!,"y"),DATEDIF(D10,O10,"y")),""),0) | Q10: =IFERROR(IF(O10<>"",DATEDIF(O10,P10,"d")+1,""),0)
E11: =IFERROR(IF(D11<>"",IF(ISBLANK(DGS_UATR_standard[[#This Row],[Date d''entrée]]),DATEDIF(D11,#REF!,"y"),DATEDIF(D11,O11,"y")),""),0) | Q11: =IFERROR(IF(O11<>"",DATEDIF(O11,P11,"d")+1,""),0)
E12: =IFERROR(IF(D12<>"",IF(ISBLANK(DGS_UATR_standard[[#This Row],[Date d''entrée]]),DATEDIF(D12,#REF!,"y"),DATEDIF(D12,O12,"y")),""),0) | Q12: =IFERROR(IF(O12<>"",DATEDIF(O12,P12,"d")+1,""),0)
E13: =IFERROR(IF(D13<>"",IF(ISBLANK(DGS_UATR_standard[[#This Row],[Date d''entrée]]),DATEDIF(D13,#REF!,"y"),DATEDIF(D13,O13,"y")),""),0) | Q13: =IFERROR(IF(O13<>"",DATEDIF(O13,P13,"d")+1,""),0)
E14: =IFERROR(IF(D14<>"",IF(ISBLANK(DGS_UATR_standard[[#This Row],[Date d''entrée]]),DATEDIF(D14,#REF!,"y"),DATEDIF(D14,O14,"y")),""),0) | Q14: =IFERROR(IF(O14<>"",DATEDIF(O14,P14,"d")+1,""),0)
E15: =IFERROR(IF(D15<>"",IF(ISBLANK(DGS_UATR_standard[[#This Row],[Date d''entrée]]),DATEDIF(D15,#REF!,"y"),DATEDIF(D15,O15,"y")),""),0) | Q15: =IFERROR(IF(O15<>"",DATEDIF(O15,P15,"d")+1,""),0)
E16: =IFERROR(IF(D16<>"",IF(ISBLANK(DGS_UATR_standard[[#This Row],[Date d''entrée]]),DATEDIF(D16,#REF!,"y"),DATEDIF(D16,O16,"y")),""),0) | Q16: =IFERROR(IF(O16<>"",DATEDIF(O16,P16,"d")+1,""),0)
E17: =IFERROR(IF(D17<>"",IF(ISBLANK(DGS_UATR_standard[[#This Row],[Date d''entrée]]),DATEDIF(D17,#REF!,"y"),DATEDIF(D17,O17,"y")),""),0) | Q17: =IFERROR(IF(O17<>"",DATEDIF(O17,P17,"d")+1,""),0)
E18: =IFERROR(IF(D18<>"",IF(ISBLANK(DGS_UATR_standard[[#This Row],[Date d''entrée]]),DATEDIF(D18,#REF!,"y"),DATEDIF(D18,O18,"y")),""),0) | Q18: =IFERROR(IF(O18<>"",DATEDIF(O18,P18,"d")+1,""),0)
E19: =IFERROR(IF(D19<>"",IF(ISBLANK(DGS_UATR_standard[[#This Row],[Date d''entrée]]),DATEDIF(D19,#REF!,"y"),DATEDIF(D19,O19,"y")),""),0) | Q19: =IFERROR(IF(O19<>"",DATEDIF(O19,P19,"d")+1,""),0)
E20: =IFERROR(IF(D20<>"",IF(ISBLANK(DGS_UATR_standard[[#This Row],[Date d''entrée]]),DATEDIF(D20,#REF!,"y"),DATEDIF(D20,O20,"y")),""),0) | Q20: =IFERROR(IF(O20<>"",DATEDIF(O20,P20,"d")+1,""),0)
E21: =IFERROR(IF(D21<>"",IF(ISBLANK(DGS_UATR_standard[[#This Row],[Date d''entrée]]),DATEDIF(D21,#REF!,"y"),DATEDIF(D21,O21,"y")),""),0) | Q21: =IFERROR(IF(O21<>"",DATEDIF(O21,P21,"d")+1,""),0)
... E55: =IFERROR(IF(D55<>"",IF(ISBLANK(DGS_UATR_standard[[#This Row],[Date d''entrée]]),DATEDIF(D55,#REF!,"y"),DATEDIF(D55,O55,"y")),""),0) | Q55: =IFERROR(IF(O55<>"",DATEDIF(O55,P55,"d")+1,""),0)
D57: Moyenne âge à l'admission : | E57: =IFERROR(AVERAGE(DGS_UATR_standard[Age à l''admission]),0) -> 0 | M57: Moyenne classe OPAS : | N57: =IFERROR(AVERAGE(DGS_UATR_standard[[ Degré PLEX]]),0) -> 0 | P57: Moyenne durée séjour : | Q57: =IFERROR(AVERAGE(DGS_UATR_standard[Durée (jours)]),0) -> 0 | R57: Nb de transformation : | S57: =COUNTIF(DGS_UATR_standard[Transformation en long séjour (2)],"oui") -> 0
D60: total | E60: - | G60: Nombre de demande reçues | I60: =COUNTA(Refus_annulation[NOM])+I61 -> 1 | M60: total | N60: - | P60: total | Q60: =SUM(DGS_UATR_standard[Durée (jours)]) -> 0
D61: moyenne | E61: =IFERROR(AVERAGE(DGS_UATR_standard[Age à l''admission]),0) -> 0 | G61: Nombre d'admission | I61: =COUNTA(DGS_UATR_standard[Prénom]) -> 1 | M61: moyenne | N61: =IFERROR(AVERAGE(DGS_UATR_standard[[ Degré PLEX]]),0) -> 0 | P61: moyenne | Q61: =IFERROR(AVERAGE(DGS_UATR_standard[Durée (jours)]),0) -> 0
D62: médiane | E62: =IFERROR(MEDIAN(DGS_UATR_standard[Age à l''admission]),0) -> 0 | G62: Nombre d'annulation | I62: =COUNTIF(Refus_annulation[Motif(3) de refus ou d''annulation du séjour ],"Annulation du résident ") -> 0 | M62: médiane | N62: =IFERROR(MEDIAN(DGS_UATR_standard[[ Degré PLEX]]),0) -> 0 | P62: médiane | Q62: =IFERROR(MEDIAN(DGS_UATR_standard[Durée (jours)]),0) -> 0
D63: min | E63: =MIN(DGS_UATR_standard[Age à l''admission]) -> 0 | G63: Taux de conversion des demandes | I63: =IFERROR(I61/I60,0) -> 1 | M63: min | N63: =MIN(DGS_UATR_standard[[ Degré PLEX]]) -> 0 | P63: min | Q63: =MIN(DGS_UATR_standard[Durée (jours)]) -> 0
D64: max | E64: =MAX(DGS_UATR_standard[Age à l''admission]) -> 0 | M64: max | N64: =MAX(DGS_UATR_standard[[ Degré PLEX]]) -> 0 | P64: max | Q64: =MAX(DGS_UATR_standard[Durée (jours)]) -> 0
B68: Reporting UATR : refus de l'EMS ou annulation du résident
B70: NOM | C70: Prénom | D70: Demandeur | E70: Provenance | F70: Motif demande | G70: Date d'entrée souhaitée | H70: Motif(3) de refus ou d'annulation du séjour | I70: Arrhes
B98: (1)lors de séjours écourtées, inscrire la date de sortie effective et non celle planifiée
B99: (2) i.e. inscrit sur Gestplace, sur une liste d'attente pour entrée en EMS
B100: (3) Refus de l'EMS ou annulation du séjour de la part du résident. Les diminutions de séjours ne doivent pas apparaître dans cette rubrique

Sheet Données lit(s) dérogatoire
B2: Reporting UATR : | C2: lit(s) dérogatoire(s)
B4: EMS : | C4: =Paramètres!$C$2 -> AMITIE
B6: Période : | C6: =Paramètres!$C$4 -> T3 2026
O7: Données effectives(1) | T7: Si séjour UATR déjà effectué : | W7: Dans tous les cas :
B8: NOM | C8: Prénom | D8: Date de naissance | E8: Age à l'admission | F8: Sexe | G8: Demandeur | H8: Provenance | I8: NPA domicile bénéficiaire | J8: Statut d'admission | K8: Suivi OSAD avant admission | L8: Orientation lors de la demande | M8: Motif principal de l'entrée | N8: Degré PLEX | O8: Date d'entrée | P8: Date de sortie | Q8: Durée (jours) | R8: Destination de sortie | S8: Transformation en long séjour (2) | T8: Nb. de jours | U8: Lieu | V8: Dérogation pour une prolongation de séjour (cumul > 45 jours) | W8: Motif de dérogation (texte libre)
E9: =IF(D9<>"",DATEDIF(D9,O9,"y"),"") | Q9: =IF(O9<>"",DATEDIF(O9,P9,"d")+1,"")
E10: =IF(D10<>"",DATEDIF(D10,O10,"y"),"") | Q10: =IF(O10<>"",DATEDIF(O10,P10,"d")+1,"")
E11: =IF(D11<>"",DATEDIF(D11,O11,"y"),"") | Q11: =IF(O11<>"",DATEDIF(O11,P11,"d")+1,"")
E12: =IF(D12<>"",DATEDIF(D12,O12,"y"),"") | Q12: =IF(O12<>"",DATEDIF(O12,P12,"d")+1,"")
E13: =IF(D13<>"",DATEDIF(D13,O13,"y"),"") | Q13: =IF(O13<>"",DATEDIF(O13,P13,"d")+1,"")
E14: =IF(D14<>"",DATEDIF(D14,O14,"y"),"") | Q14: =IF(O14<>"",DATEDIF(O14,P14,"d")+1,"")
E15: =IF(D15<>"",DATEDIF(D15,O15,"y"),"") | Q15: =IF(O15<>"",DATEDIF(O15,P15,"d")+1,"")
E16: =IF(D16<>"",DATEDIF(D16,O16,"y"),"") | Q16: =IF(O16<>"",DATEDIF(O16,P16,"d")+1,"")
E17: =IF(D17<>"",DATEDIF(D17,O17,"y"),"") | Q17: =IF(O17<>"",DATEDIF(O17,P17,"d")+1,"")
E18: =IF(D18<>"",DATEDIF(D18,O18,"y"),"") | Q18: =IF(O18<>"",DATEDIF(O18,P18,"d")+1,"")
E19: =IF(D19<>"",DATEDIF(D19,O19,"y"),"") | Q19: =IF(O19<>"",DATEDIF(O19,P19,"d")+1,"")
E20: =IF(D20<>"",DATEDIF(D20,O20,"y"),"") | Q20: =IF(O20<>"",DATEDIF(O20,P20,"d")+1,"")
... E66: =IF(D66<>"",DATEDIF(D66,O66,"y"),"") | Q66: =IF(O66<>"",DATEDIF(O66,P66,"d")+1,"")
D68: Moyenne âge à l'admission : | E68: =IFERROR(AVERAGE(DGS_UATR_derogatoire[Age à l''admission]),0) -> 0 | M68: Moyenne classe OPAS : | N68: =IFERROR(AVERAGE(DGS_UATR_derogatoire[[ Degré PLEX]]),0) -> 0 | P68: Moyenne durée séjour : | Q68: =IFERROR(AVERAGE(DGS_UATR_derogatoire[Durée (jours)]),0) -> 0 | R68: Nb de transformation : | S68: =COUNTIF(DGS_UATR_derogatoire[Transformation en long séjour (2)],"oui") -> 0
D71: total | E71: - | G71: Nombre de demande reçues | I71: =COUNTA(Refus_annulation_derogatoire[NOM])+I72 -> 1 | M71: total | N71: - | P71: total | Q71: =SUM(DGS_UATR_derogatoire[Durée (jours)]) -> 0
D72: moyenne | E72: =IFERROR(AVERAGE(DGS_UATR_derogatoire[Age à l''admission]),0) -> 0 | G72: Nombre d'admission | I72: =COUNTA(DGS_UATR_derogatoire[Prénom]) -> 1 | M72: moyenne | N72: =IFERROR(AVERAGE(DGS_UATR_derogatoire[[ Degré PLEX]]),0) -> 0 | P72: moyenne | Q72: =IFERROR(AVERAGE(DGS_UATR_derogatoire[Durée (jours)]),0) -> 0
D73: médiane | E73: =IFERROR(MEDIAN(DGS_UATR_derogatoire[Age à l''admission]),0) -> 0 | G73: Nombre d'annulation | I73: =COUNTIF(Refus_annulation_derogatoire[Motif(3) de refus ou d''annulation du séjour ],"Annulation du résident ") -> 0 | M73: médiane | N73: =IFERROR(MEDIAN(DGS_UATR_derogatoire[[ Degré PLEX]]),0) -> 0 | P73: médiane | Q73: =IFERROR(MEDIAN(DGS_UATR_derogatoire[Durée (jours)]),0) -> 0
D74: min | E74: =MIN(DGS_UATR_derogatoire[Age à l''admission]) -> 0 | G74: Taux de conversion des demandes | I74: =IFERROR(I72/I71,0) -> 1 | M74: min | N74: =MIN(DGS_UATR_derogatoire[[ Degré PLEX]]) -> 0 | P74: min | Q74: =MIN(DGS_UATR_derogatoire[Durée (jours)]) -> 0
D75: max | E75: =MAX(DGS_UATR_derogatoire[Age à l''admission]) -> 0 | M75: max | N75: =MAX(DGS_UATR_derogatoire[[ Degré PLEX]]) -> 0 | P75: max | Q75: =MAX(DGS_UATR_derogatoire[Durée (jours)]) -> 0
B79: Reporting UATR : refus de l'EMS ou annulation du résident
B81: NOM | C81: Prénom | D81: Demandeur | E81: Provenance | F81: Motif demande | G81: Date d'entrée souhaitée | H81: Motif(3) de refus ou d'annulation du séjour | I81: Arrhes
B101: (1)lors de séjours écourtées, inscrire la date de sortie effective et non celle planifiée
B102: (2) i.e. inscrit sur Gestplace, sur une liste d'attente pour entrée en EMS
B103: (3) Refus de l'EMS ou annulation du séjour de la part du résident. Les diminutions de séjours ne doivent pas apparaître dans cette rubrique

Sheet Ref
B1: Demandeur : Bénéficiaire; Proche aidant; Médecin; HUG; IMAD; ProSenectute; Autre | O1: AMITIE | Q1: T1 2020 | R1: 43831 | S1: 43921 | U1: Donnée AE provenance | V1: Données AE destination | W1: Refus AE provenance | X1: Données dérogatoire provenance | Y1: Données dérogatoire destination | Z1: Refus dérogatoire provenance | AA1: Motif(3) de refus ou d'annulation du séjour | AB1: Arrhes | AC1: Demandeur Données AE | AD1: Demandeur Refus ou annulation
B2: Provenance : Domicile; Domicile avec OSAD; IEPA; HUG; Loëx; 3 Chênes; Beau-Séjour; Belle Idée; Jolimont/Montana; Bellerive ; Cliniques et hôpitaux privés; UATR Jumelles; UATR Villereuse; UATM; Autre EMS en lit UATR | O2: ARENIERES | Q2: T2 2020 | R2: =+S1+1 -> 43922 | S2: =DATE(YEAR(R2),MONTH(R2)+2,DAY(R2)+29) -> 44012 | U2: Domicile | V2: Domicile | W2: Domicile | X2: Domicile | Y2: Domicile | Z2: Domicile | AA2: Hospitalisation | AB2: arrhes conservées par l'EMS | AC2: Bénéficiaire | AD2: Bénéficiaire
O3: BEAUREGARD | Q3: T3 2020 | R3: =+S2+1 -> 44013 | S3: =DATE(YEAR(R3),MONTH(R3)+2,DAY(R3)+29) -> 44104 | U3: Domicile avec OSAD | V3: Domicile avec OSAD | W3: Domicile avec OSAD | X3: Domicile avec OSAD | Y3: Domicile avec OSAD | Z3: Domicile avec OSAD | AA3: Disponibilité date | AB3: arrhes restituées par l'EMS | AC3: Proche aidant | AD3: Proche aidant
O4: BETHEL | Q4: T4 2020 | R4: =+S3+1 -> 44105 | S4: =DATE(YEAR(R4),MONTH(R4)+2,DAY(R4)+30) -> 44196 | U4: IEPA | V4: IEPA | W4: IEPA | X4: IEPA | Y4: IEPA | Z4: IEPA | AA4: Disponibilité place | AB4: pas d'arrhes versées à l'EMS | AC4: Médecin | AD4: Médecin
B5: Statut d'admission : Urgence (jour même); Rapide (moins de 7 jours à jour même); Electif (7 jours ou plus) | O5: BON SEJOUR | Q5: T1 2021 | R5: =+S4+1 -> 44197 | S5: =DATE(YEAR(R5),MONTH(R5)+2,DAY(R5)+30) -> 44286 | U5: HUG | V5: Décès | W5: HUG | X5: HUG | Y5: Décès | Z5: HUG | AA5: Raison financière | AC5: HUG | AD5: HUG
B6: Orientation lors de la demande : Envisager la vie en EMS; Revenir à domicile avec soutien | O6: BRUYERES | Q6: T2 2021 | R6: =+S5+1 -> 44287 | S6: =DATE(YEAR(R6),MONTH(R6)+2,DAY(R6)+29) -> 44377 | U6: Loëx | V6: HUG | W6: Loëx | X6: Loëx | Y6: HUG | Z6: Loëx | AA6: Annulation du résident sans autre motif | AC6: IMAD | AD6: IMAD
B7: Motif principal de l'entrée : Hospitalisation proche aidant; Absence proche aidant; Besoin répit proche aidant; Besoin répit bénéficiaire; Travaux logement; Sortie hospitalisation; Logement momentanément inhabitable | O7: BUTINI | Q7: T3 2021 | R7: =+S6+1 -> 44378 | S7: =DATE(YEAR(R7),MONTH(R7)+2,DAY(R7)+29) -> 44469 | U7: 3 Chênes | V7: Loëx | W7: 3 Chênes | X7: 3 Chênes | Y7: Loëx | Z7: 3 Chênes | AA7: Décès | AC7: ProSenectute | AD7: ProSenectute
O8: CHAMPAGNE | Q8: T4 2021 | R8: =+S7+1 -> 44470 | S8: =DATE(YEAR(R8),MONTH(R8)+2,DAY(R8)+30) -> 44561 | U8: Beau-Séjour | V8: 3 Chênes | W8: Beau-Séjour | X8: Beau-Séjour | Y8: 3 Chênes | Z8: Beau-Séjour | AA8: Diminution de séjour en cours de séjour | AC8: Autre | AD8: Autre
O9: CHARMETTES | Q9: T1 2022 | R9: =+S8+1 -> 44562 | S9: =DATE(YEAR(R9),MONTH(R9)+2,DAY(R9)+30) -> 44651 | U9: Belle Idée | V9: Beau-Séjour | W9: Belle Idée | X9: Belle Idée | Y9: Beau-Séjour | Z9: Belle Idée | AA9: Autres
B10: Destination de sortie : Domicile; Domicile avec OSAD; IEPA; Décès; HUG; Loëx; 3 Chênes; Beau-Séjour; Belle Idée; Jolimont/Montana; Bellerive ; Cliniques et hôpitaux privés; UATR Jumelles; UATR Villereuse; UATM; Autre EMS en lit long-séjour; Autre EMS en lit UATR | O10: CHARMILLES | Q10: T2 2022 | R10: =+S9+1 -> 44652 | S10: =DATE(YEAR(R10),MONTH(R10)+2,DAY(R10)+29) -> 44742 | U10: Jolimont/Montana | V10: Belle Idée | W10: Jolimont/Montana | X10: Jolimont/Montana | Y10: Belle Idée | Z10: Jolimont/Montana
O11: CHATAIGNIERS | Q11: T3 2022 | R11: =+S10+1 -> 44743 | S11: =DATE(YEAR(R11),MONTH(R11)+2,DAY(R11)+29) -> 44834 | U11: Bellerive | V11: Jolimont/Montana | W11: Bellerive | X11: Bellerive | Y11: Jolimont/Montana | Z11: Bellerive
O12: CHATELAINE | Q12: T4 2022 | R12: =+S11+1 -> 44835 | S12: =DATE(YEAR(R12),MONTH(R12)+2,DAY(R12)+30) -> 44926 | U12: Cliniques et hôpitaux privés | V12: Bellerive | W12: Cliniques et hôpitaux privés | X12: Cliniques et hôpitaux privés | Y12: Bellerive | Z12: Cliniques et hôpitaux privés
B13: Motif d'annulation : Autre orientation; Décès; Hospitalisation; Placement; Raison familiale; Raison financière; Refus patient; Suite traitement | O13: COCCINELLE | Q13: T1 2023 | R13: =+S12+1 -> 44927 | S13: =DATE(YEAR(R13),MONTH(R13)+2,DAY(R13)+30) -> 45016 | U13: UATR Jumelles | V13: Cliniques et hôpitaux privés | W13: UATR Jumelles | X13: UATR Jumelles | Y13: Cliniques et hôpitaux privés | Z13: UATR Jumelles
O14: RIVE | Q14: T2 2023 | R14: =+S13+1 -> 45017 | S14: =DATE(YEAR(R14),MONTH(R14)+2,DAY(R14)+29) -> 45107 | U14: UATR Villereuse | V14: UATR Jumelles | W14: UATR Villereuse | X14: UATR Villereuse | Y14: UATR Jumelles | Z14: UATR Villereuse
B15: Lieu : Bon-Séjour; Jumelles; Louvière; St-Paul; Val Fleuri; Villereuse ; Ouverture provisoire lit court séjour | O15: DRIZE | Q15: T3 2023 | R15: =+S14+1 -> 45108 | S15: =DATE(YEAR(R15),MONTH(R15)+2,DAY(R15)+29) -> 45199 | U15: UATM | V15: UATR Villereuse | W15: UATM | X15: UATM | Y15: UATR Villereuse | Z15: UATM
O16: EYNARD-FATIO | Q16: T4 2023 | R16: =+S15+1 -> 45200 | S16: =DATE(YEAR(R16),MONTH(R16)+2,DAY(R16)+30) -> 45291 | U16: Autre EMS en lit UATR | V16: UATM | W16: Autre EMS en lit UATR | X16: Autre EMS en lit UATR | Y16: UATM | Z16: Autre EMS en lit UATR
O17: FORT-BARREAU | Q17: T1 2024 | R17: =+S16+1 -> 45292 | S17: =DATE(YEAR(R17),MONTH(R17)+2,DAY(R17)+30) -> 45382 | V17: Autre EMS en lit long-séjour | Y17: Autre EMS en lit long-séjour
O18: FRANCHISES | Q18: T2 2024 | R18: =+S17+1 -> 45383 | S18: =DATE(YEAR(R18),MONTH(R18)+2,DAY(R18)+29) -> 45473 | V18: Autre EMS en lit UATR | Y18: Autre EMS en lit UATR
B19: Demandeur : Bénéficiaire; Proche aidant; Médecin; HUG; IMAD; ProSenectute; Autre | O19: HAPPY DAYS | Q19: T3 2024 | R19: =+S18+1 -> 45474 | S19: =DATE(YEAR(R19),MONTH(R19)+2,DAY(R19)+29) -> 45565 | V19: dans l'EMS en lit long-séjour (avec autorisation du département) | Y19: dans l'EMS en lit long-séjour (avec autorisation du département)
B20: Provenance : Domicile; Domicile avec OSAD; IEPA; HUG; Loëx; 3 Chênes; Beau-Séjour; Belle Idée; Jolimont/Montana; Bellerive ; Cliniques et hôpitaux privés; UATR Jumelles; UATR Villereuse; UATM; Autre EMS en lit UATR | O20: JURA | Q20: T4 2024 | R20: =+S19+1 -> 45566 | S20: =DATE(YEAR(R20),MONTH(R20)+2,DAY(R20)+30) -> 45657
O21: LAURIERS | Q21: T1 2025 | R21: =+S20+1 -> 45658 | S21: =DATE(YEAR(R21),MONTH(R21)+2,DAY(R21)+30) -> 45747
O22: LEMAN | Q22: T2 2025 | R22: =+S21+1 -> 45748 | S22: =DATE(YEAR(R22),MONTH(R22)+2,DAY(R22)+29) -> 45838
B23: Motif demande : Hospitalisation proche aidant; Absence proche aidant; Besoin répit proche aidant; Besoin répit bénéficiaire; Travaux logement; Sortie hospitalisation; Envisager la vie en EMS; Logement momentanément inhabitable | O23: LIOTARD | Q23: T3 2025 | R23: =+S22+1 -> 45839 | S23: =DATE(YEAR(R23),MONTH(R23)+2,DAY(R23)+29) -> 45930
O24: LOUVIERE | Q24: T4 2025 | R24: =+S23+1 -> 45931 | S24: =DATE(YEAR(R24),MONTH(R24)+2,DAY(R24)+30) -> 46022
O25: MRPS | Q25: T1 2026 | R25: =+S24+1 -> 46023 | S25: =DATE(YEAR(R25),MONTH(R25)+2,DAY(R25)+30) -> 46112
B26: Motif refus ou d'annulation : Disponibilité date ; Disponibilité place ; Raison financière; Suite traitement ; Annulation du résident | O26: MANDEMENT | Q26: T2 2026 | R26: =+S25+1 -> 46113 | S26: =DATE(YEAR(R26),MONTH(R26)+2,DAY(R26)+29) -> 46203
O27: MARRONNIERS | Q27: T3 2026 | R27: =+S26+1 -> 46204 | S27: =DATE(YEAR(R27),MONTH(R27)+2,DAY(R27)+29) -> 46295
O28: MERIDIENNE | Q28: T4 2026 | R28: =+S27+1 -> 46296 | S28: =DATE(YEAR(R28),MONTH(R28)+2,DAY(R28)+30) -> 46387
O29: MIMOSAS | Q29: T1 2027 | R29: =+S28+1 -> 46388 | S29: =DATE(YEAR(R29),MONTH(R29)+2,DAY(R29)+30) -> 46477
O30: VILLA MONA | Q30: T2 2027 | R30: =+S29+1 -> 46478 | S30: =DATE(YEAR(R30),MONTH(R30)+2,DAY(R30)+29) -> 46568
O31: MOUILLES | Q31: T3 2027 | R31: =+S30+1 -> 46569 | S31: =DATE(YEAR(R31),MONTH(R31)+2,DAY(R31)+29) -> 46660
B32: Calcul journées théoriques d'occupation selon AE | O32: VILLA MANDEMENT | Q32: T4 2027 | R32: =+S31+1 -> 46661 | S32: =DATE(YEAR(R32),MONTH(R32)+2,DAY(R32)+30) -> 46752
C33: Date début | D33: Date fin | E33: Jours totaux | O33: NOTRE-DAME | Q33: T1 2028 | R33: =+S32+1 -> 46753 | S33: =DATE(YEAR(R33),MONTH(R33)+2,DAY(R33)+30) -> 46843
B34: UATR 1 | C34: =[1]Paramètres!$D$6 -> 44927 | D34: =[1]Paramètres!$F$6 -> 45016 | E34: =IF(C34="","",D34-C34+1) -> 90 | O34: NOUVEAU KERMONT | Q34: T2 2028 | R34: =+S33+1 -> 46844 | S34: =DATE(YEAR(R34),MONTH(R34)+2,DAY(R34)+29) -> 46934
B35: UATR 2 | C35: =[1]Paramètres!$D$6 -> 44927 | D35: =[1]Paramètres!$F$6 -> 45016 | E35: =IF(C35="","",D35-C35+1) -> 90 | O35: PERVENCHES | Q35: T3 2028 | R35: =+S34+1 -> 46935 | S35: =DATE(YEAR(R35),MONTH(R35)+2,DAY(R35)+29) -> 47026
B36: UATR 3 | C36: =[1]Paramètres!$D$6 -> 44927 | D36: =[1]Paramètres!$F$6 -> 45016 | E36: =IF(C36="","",D36-C36+1) -> 90 | O36: PETITE BOISSIERE | Q36: T4 2028 | R36: =+S35+1 -> 47027 | S36: =DATE(YEAR(R36),MONTH(R36)+2,DAY(R36)+30) -> 47118
B37: UATR 4 | C37: =[1]Paramètres!$D$6 -> 44927 | D37: =[1]Paramètres!$F$6 -> 45016 | E37: =IF(C37="","",D37-C37+1) -> 90 | O37: PIERRE DE LA FEE | Q37: T1 2029 | R37: =+S36+1 -> 47119 | S37: =DATE(YEAR(R37),MONTH(R37)+2,DAY(R37)+30) -> 47208
B38: UATR 5 | C38: =[1]Paramètres!$D$6 -> 44927 | D38: =[1]Paramètres!$F$6 -> 45016 | E38: =IF(C38="","",D38-C38+1) -> 90 | O38: PINS | Q38: T2 2029 | R38: =+S37+1 -> 47209 | S38: =DATE(YEAR(R38),MONTH(R38)+2,DAY(R38)+29) -> 47299
B39: UATR 6 | C39: =[1]Paramètres!$D$6 -> 44927 | D39: =[1]Paramètres!$F$6 -> 45016 | E39: =IF(C39="","",D39-C39+1) -> 90 | O39: PLAINE | Q39: T3 2029 | R39: =+S38+1 -> 47300 | S39: =DATE(YEAR(R39),MONTH(R39)+2,DAY(R39)+29) -> 47391
B40: UATR 7 | C40: =[1]Paramètres!$D$6 -> 44927 | D40: =[1]Paramètres!$F$6 -> 45016 | E40: =IF(C40="","",D40-C40+1) -> 90 | O40: PLANTAMOUR | Q40: T4 2029 | R40: =+S39+1 -> 47392 | S40: =DATE(YEAR(R40),MONTH(R40)+2,DAY(R40)+30) -> 47483
...

Sheet CopieDonnées
C2: Cet onglet vous founit les instructions afin de copier les données de la période :
C4: Q1 2019
C6: vers la version de ce fichier, à savoir la période :
C8: S1 2019
B10: A | C10: Assurez-vous d'avoir uniquement ce fichier ouvert dans votre session d'Excel.
B12: B | C12: Cliquer sur le bouton ci-dessous pour ouvrir l'ancien fichier (période : Q1 2019) pour lequel vous voulez copier les données dans ce fichier.
